BEGIN:VCALENDAR
VERSION:2.0
PRODID:-//WhenKickoff//Match Reminder//EN
BEGIN:VEVENT
UID:wk-540547-15@whenkickoff.com
DTSTAMP:20260420T121857Z
DTSTART:20260110T143000Z
DTEND:20260110T163000Z
SUMMARY:1. FC Union Berlin vs 1. FSV Mainz 05
DESCRIPTION:WhenKickoff reminder for 1. FC Union Berlin vs 1. FSV Mainz 05
URL:https://whenkickoff.com/en/match/1-fc-union-berlin-vs-1-fsv-mainz-05-540547/
BEGIN:VALARM
TRIGGER:-PT15M
ACTION:DISPLAY
DESCRIPTION:Match starts soon
END:VALARM
END:VEVENT
END:VCALENDAR
