BEGIN:VCALENDAR
VERSION:2.0
PRODID:-//WhenKickoff//Match Reminder//EN
BEGIN:VEVENT
UID:wk-540546-15@whenkickoff.com
DTSTAMP:20260420T083906Z
DTSTART:20260111T143000Z
DTEND:20260111T163000Z
SUMMARY:Borussia Mönchengladbach vs FC Augsburg
DESCRIPTION:WhenKickoff reminder for Borussia Mönchengladbach vs FC Augsburg
URL:https://whenkickoff.com/en/match/borussia-m-nchengladbach-vs-fc-augsburg-540546/
BEGIN:VALARM
TRIGGER:-PT15M
ACTION:DISPLAY
DESCRIPTION:Match starts soon
END:VALARM
END:VEVENT
END:VCALENDAR
