BEGIN:VCALENDAR
VERSION:2.0
PRODID:-//WhenKickoff//Match Reminder//EN
BEGIN:VEVENT
UID:wk-540545-15@whenkickoff.com
DTSTAMP:20260420T134800Z
DTSTART:20260127T193000Z
DTEND:20260127T213000Z
SUMMARY:SV Werder Bremen vs TSG 1899 Hoffenheim
DESCRIPTION:WhenKickoff reminder for SV Werder Bremen vs TSG 1899 Hoffenheim
URL:https://whenkickoff.com/en/match/sv-werder-bremen-vs-tsg-1899-hoffenheim-540545/
BEGIN:VALARM
TRIGGER:-PT15M
ACTION:DISPLAY
DESCRIPTION:Match starts soon
END:VALARM
END:VEVENT
END:VCALENDAR
