BEGIN:VCALENDAR
VERSION:2.0
PRODID:-//WhenKickoff//Match Reminder//EN
BEGIN:VEVENT
UID:wk-540541-15@whenkickoff.com
DTSTAMP:20260420T083908Z
DTSTART:20260111T163000Z
DTEND:20260111T183000Z
SUMMARY:FC Bayern München vs VfL Wolfsburg
DESCRIPTION:WhenKickoff reminder for FC Bayern München vs VfL Wolfsburg
URL:https://whenkickoff.com/en/match/fc-bayern-m-nchen-vs-vfl-wolfsburg-540541/
BEGIN:VALARM
TRIGGER:-PT15M
ACTION:DISPLAY
DESCRIPTION:Match starts soon
END:VALARM
END:VEVENT
END:VCALENDAR
