BEGIN:VCALENDAR
VERSION:2.0
PRODID:-//WhenKickoff//Match Reminder//EN
BEGIN:VEVENT
UID:wk-538132-15@whenkickoff.com
DTSTAMP:20260419T184840Z
DTSTART:20260503T143000Z
DTEND:20260503T163000Z
SUMMARY:Manchester United FC vs Liverpool FC
DESCRIPTION:WhenKickoff reminder for Manchester United FC vs Liverpool FC
URL:https://whenkickoff.com/en/match/manchester-united-fc-vs-liverpool-fc-538132/
BEGIN:VALARM
TRIGGER:-PT15M
ACTION:DISPLAY
DESCRIPTION:Match starts soon
END:VALARM
END:VEVENT
END:VCALENDAR
