BEGIN:VCALENDAR
VERSION:2.0
PRODID:-//WhenKickoff//Match Reminder//EN
BEGIN:VEVENT
UID:wk-538129-15@whenkickoff.com
DTSTAMP:20260420T112440Z
DTSTART:20260504T140000Z
DTEND:20260504T160000Z
SUMMARY:Chelsea FC vs Nottingham Forest FC
DESCRIPTION:WhenKickoff reminder for Chelsea FC vs Nottingham Forest FC
URL:https://whenkickoff.com/en/match/chelsea-fc-vs-nottingham-forest-fc-538129/
BEGIN:VALARM
TRIGGER:-PT15M
ACTION:DISPLAY
DESCRIPTION:Match starts soon
END:VALARM
END:VEVENT
END:VCALENDAR
