BEGIN:VCALENDAR
VERSION:2.0
PRODID:-//WhenKickoff//Match Reminder//EN
BEGIN:VEVENT
UID:wk-538126-15@whenkickoff.com
DTSTAMP:20260419T165241Z
DTSTART:20260503T180000Z
DTEND:20260503T200000Z
SUMMARY:Aston Villa FC vs Tottenham Hotspur FC
DESCRIPTION:WhenKickoff reminder for Aston Villa FC vs Tottenham Hotspur FC
URL:https://whenkickoff.com/en/match/aston-villa-fc-vs-tottenham-hotspur-fc-538126/
BEGIN:VALARM
TRIGGER:-PT15M
ACTION:DISPLAY
DESCRIPTION:Match starts soon
END:VALARM
END:VEVENT
END:VCALENDAR
