BEGIN:VCALENDAR
VERSION:2.0
PRODID:-//WhenKickoff//Match Reminder//EN
BEGIN:VEVENT
UID:wk-538125-15@whenkickoff.com
DTSTAMP:20260419T165240Z
DTSTART:20260503T130000Z
DTEND:20260503T150000Z
SUMMARY:AFC Bournemouth vs Crystal Palace FC
DESCRIPTION:WhenKickoff reminder for AFC Bournemouth vs Crystal Palace FC
URL:https://whenkickoff.com/en/match/afc-bournemouth-vs-crystal-palace-fc-538125/
BEGIN:VALARM
TRIGGER:-PT15M
ACTION:DISPLAY
DESCRIPTION:Match starts soon
END:VALARM
END:VEVENT
END:VCALENDAR
