BEGIN:VCALENDAR
VERSION:2.0
PRODID:-//WhenKickoff//Match Reminder//EN
BEGIN:VEVENT
UID:wk-538124-15@whenkickoff.com
DTSTAMP:20260419T234142Z
DTSTART:20260425T140000Z
DTEND:20260425T160000Z
SUMMARY:Wolverhampton Wanderers FC vs Tottenham Hotspur FC
DESCRIPTION:WhenKickoff reminder for Wolverhampton Wanderers FC vs Tottenham Hotspur FC
URL:https://whenkickoff.com/en/match/wolverhampton-wanderers-fc-vs-tottenham-hotspur-fc-538124/
BEGIN:VALARM
TRIGGER:-PT15M
ACTION:DISPLAY
DESCRIPTION:Match starts soon
END:VALARM
END:VEVENT
END:VCALENDAR
