BEGIN:VCALENDAR
VERSION:2.0
PRODID:-//WhenKickoff//Match Reminder//EN
BEGIN:VEVENT
UID:wk-538123-15@whenkickoff.com
DTSTAMP:20260419T184839Z
DTSTART:20260425T140000Z
DTEND:20260425T160000Z
SUMMARY:West Ham United FC vs Everton FC
DESCRIPTION:WhenKickoff reminder for West Ham United FC vs Everton FC
URL:https://whenkickoff.com/en/match/west-ham-united-fc-vs-everton-fc-538123/
BEGIN:VALARM
TRIGGER:-PT15M
ACTION:DISPLAY
DESCRIPTION:Match starts soon
END:VALARM
END:VEVENT
END:VCALENDAR
