BEGIN:VCALENDAR
VERSION:2.0
PRODID:-//WhenKickoff//Match Reminder//EN
BEGIN:VEVENT
UID:wk-538120-15@whenkickoff.com
DTSTAMP:20260420T000917Z
DTSTART:20260425T113000Z
DTEND:20260425T133000Z
SUMMARY:Fulham FC vs Aston Villa FC
DESCRIPTION:WhenKickoff reminder for Fulham FC vs Aston Villa FC
URL:https://whenkickoff.com/en/match/fulham-fc-vs-aston-villa-fc-538120/
BEGIN:VALARM
TRIGGER:-PT15M
ACTION:DISPLAY
DESCRIPTION:Match starts soon
END:VALARM
END:VEVENT
END:VCALENDAR
