BEGIN:VCALENDAR
VERSION:2.0
PRODID:-//WhenKickoff//Match Reminder//EN
BEGIN:VEVENT
UID:wk-538109-15@whenkickoff.com
DTSTAMP:20260420T000210Z
DTSTART:20260419T130000Z
DTEND:20260419T150000Z
SUMMARY:Everton FC vs Liverpool FC
DESCRIPTION:WhenKickoff reminder for Everton FC vs Liverpool FC
URL:https://whenkickoff.com/en/match/everton-fc-vs-liverpool-fc-538109/
BEGIN:VALARM
TRIGGER:-PT15M
ACTION:DISPLAY
DESCRIPTION:Match starts soon
END:VALARM
END:VEVENT
END:VCALENDAR
