BEGIN:VCALENDAR
VERSION:2.0
PRODID:-//WhenKickoff//Match Reminder//EN
BEGIN:VEVENT
UID:wk-538104-15@whenkickoff.com
DTSTAMP:20260419T165242Z
DTSTART:20260410T190000Z
DTEND:20260410T210000Z
SUMMARY:West Ham United FC vs Wolverhampton Wanderers FC
DESCRIPTION:WhenKickoff reminder for West Ham United FC vs Wolverhampton Wanderers FC
URL:https://whenkickoff.com/en/match/west-ham-united-fc-vs-wolverhampton-wanderers-fc-538104/
BEGIN:VALARM
TRIGGER:-PT15M
ACTION:DISPLAY
DESCRIPTION:Match starts soon
END:VALARM
END:VEVENT
END:VCALENDAR
