BEGIN:VCALENDAR
VERSION:2.0
PRODID:-//WhenKickoff//Match Reminder//EN
BEGIN:VEVENT
UID:wk-538101-15@whenkickoff.com
DTSTAMP:20260421T084500Z
DTSTART:20260411T163000Z
DTEND:20260411T183000Z
SUMMARY:Liverpool FC vs Fulham FC
DESCRIPTION:WhenKickoff reminder for Liverpool FC vs Fulham FC
URL:https://whenkickoff.com/en/match/liverpool-fc-vs-fulham-fc-538101/
BEGIN:VALARM
TRIGGER:-PT15M
ACTION:DISPLAY
DESCRIPTION:Match starts soon
END:VALARM
END:VEVENT
END:VCALENDAR
