BEGIN:VCALENDAR
VERSION:2.0
PRODID:-//WhenKickoff//Match Reminder//EN
BEGIN:VEVENT
UID:wk-538097-15@whenkickoff.com
DTSTAMP:20260421T085414Z
DTSTART:20260411T113000Z
DTEND:20260411T133000Z
SUMMARY:Arsenal FC vs AFC Bournemouth
DESCRIPTION:WhenKickoff reminder for Arsenal FC vs AFC Bournemouth
URL:https://whenkickoff.com/en/match/arsenal-fc-vs-afc-bournemouth-538097/
BEGIN:VALARM
TRIGGER:-PT15M
ACTION:DISPLAY
DESCRIPTION:Match starts soon
END:VALARM
END:VEVENT
END:VCALENDAR
