BEGIN:VCALENDAR
VERSION:2.0
PRODID:-//WhenKickoff//Match Reminder//EN
BEGIN:VEVENT
UID:wk-538095-15@whenkickoff.com
DTSTAMP:20260421T090046Z
DTSTART:20260412T130000Z
DTEND:20260412T150000Z
SUMMARY:Sunderland AFC vs Tottenham Hotspur FC
DESCRIPTION:WhenKickoff reminder for Sunderland AFC vs Tottenham Hotspur FC
URL:https://whenkickoff.com/en/match/sunderland-afc-vs-tottenham-hotspur-fc-538095/
BEGIN:VALARM
TRIGGER:-PT15M
ACTION:DISPLAY
DESCRIPTION:Match starts soon
END:VALARM
END:VEVENT
END:VCALENDAR
