BEGIN:VCALENDAR
VERSION:2.0
PRODID:-//WhenKickoff//Match Reminder//EN
BEGIN:VEVENT
UID:wk-538090-15@whenkickoff.com
DTSTAMP:20260419T184827Z
DTSTART:20260321T200000Z
DTEND:20260321T220000Z
SUMMARY:Leeds United FC vs Brentford FC
DESCRIPTION:WhenKickoff reminder for Leeds United FC vs Brentford FC
URL:https://whenkickoff.com/en/match/leeds-united-fc-vs-brentford-fc-538090/
BEGIN:VALARM
TRIGGER:-PT15M
ACTION:DISPLAY
DESCRIPTION:Match starts soon
END:VALARM
END:VEVENT
END:VCALENDAR
