BEGIN:VCALENDAR
VERSION:2.0
PRODID:-//WhenKickoff//Match Reminder//EN
BEGIN:VEVENT
UID:wk-538088-15@whenkickoff.com
DTSTAMP:20260419T200100Z
DTSTART:20260321T173000Z
DTEND:20260321T193000Z
SUMMARY:Everton FC vs Chelsea FC
DESCRIPTION:WhenKickoff reminder for Everton FC vs Chelsea FC
URL:https://whenkickoff.com/en/match/everton-fc-vs-chelsea-fc-538088/
BEGIN:VALARM
TRIGGER:-PT15M
ACTION:DISPLAY
DESCRIPTION:Match starts soon
END:VALARM
END:VEVENT
END:VCALENDAR
