BEGIN:VCALENDAR
VERSION:2.0
PRODID:-//WhenKickoff//Match Reminder//EN
BEGIN:VEVENT
UID:wk-538087-15@whenkickoff.com
DTSTAMP:20260419T192316Z
DTSTART:20260321T124500Z
DTEND:20260321T144500Z
SUMMARY:Brighton & Hove Albion FC vs Liverpool FC
DESCRIPTION:WhenKickoff reminder for Brighton & Hove Albion FC vs Liverpool FC
URL:https://whenkickoff.com/en/match/brighton-hove-albion-fc-vs-liverpool-fc-538087/
BEGIN:VALARM
TRIGGER:-PT15M
ACTION:DISPLAY
DESCRIPTION:Match starts soon
END:VALARM
END:VEVENT
END:VCALENDAR
