BEGIN:VCALENDAR
VERSION:2.0
PRODID:-//WhenKickoff//Match Reminder//EN
BEGIN:VEVENT
UID:wk-538079-15@whenkickoff.com
DTSTAMP:20260419T222414Z
DTSTART:20260314T150000Z
DTEND:20260314T170000Z
SUMMARY:Burnley FC vs AFC Bournemouth
DESCRIPTION:WhenKickoff reminder for Burnley FC vs AFC Bournemouth
URL:https://whenkickoff.com/en/match/burnley-fc-vs-afc-bournemouth-538079/
BEGIN:VALARM
TRIGGER:-PT15M
ACTION:DISPLAY
DESCRIPTION:Match starts soon
END:VALARM
END:VEVENT
END:VCALENDAR
