BEGIN:VCALENDAR
VERSION:2.0
PRODID:-//WhenKickoff//Match Reminder//EN
BEGIN:VEVENT
UID:wk-538072-15@whenkickoff.com
DTSTAMP:20260419T165240Z
DTSTART:20260304T201500Z
DTEND:20260304T221500Z
SUMMARY:Newcastle United FC vs Manchester United FC
DESCRIPTION:WhenKickoff reminder for Newcastle United FC vs Manchester United FC
URL:https://whenkickoff.com/en/match/newcastle-united-fc-vs-manchester-united-fc-538072/
BEGIN:VALARM
TRIGGER:-PT15M
ACTION:DISPLAY
DESCRIPTION:Match starts soon
END:VALARM
END:VEVENT
END:VCALENDAR
