BEGIN:VCALENDAR
VERSION:2.0
PRODID:-//WhenKickoff//Match Reminder//EN
BEGIN:VEVENT
UID:wk-538067-15@whenkickoff.com
DTSTAMP:20260419T165241Z
DTSTART:20260304T193000Z
DTEND:20260304T213000Z
SUMMARY:Brighton & Hove Albion FC vs Arsenal FC
DESCRIPTION:WhenKickoff reminder for Brighton & Hove Albion FC vs Arsenal FC
URL:https://whenkickoff.com/en/match/brighton-hove-albion-fc-vs-arsenal-fc-538067/
BEGIN:VALARM
TRIGGER:-PT15M
ACTION:DISPLAY
DESCRIPTION:Match starts soon
END:VALARM
END:VEVENT
END:VCALENDAR
