BEGIN:VCALENDAR
VERSION:2.0
PRODID:-//WhenKickoff//Match Reminder//EN
BEGIN:VEVENT
UID:wk-538060-15@whenkickoff.com
DTSTAMP:20260419T184827Z
DTSTART:20260228T150000Z
DTEND:20260228T170000Z
SUMMARY:Liverpool FC vs West Ham United FC
DESCRIPTION:WhenKickoff reminder for Liverpool FC vs West Ham United FC
URL:https://whenkickoff.com/en/match/liverpool-fc-vs-west-ham-united-fc-538060/
BEGIN:VALARM
TRIGGER:-PT15M
ACTION:DISPLAY
DESCRIPTION:Match starts soon
END:VALARM
END:VEVENT
END:VCALENDAR
