BEGIN:VCALENDAR
VERSION:2.0
PRODID:-//WhenKickoff//Match Reminder//EN
BEGIN:VEVENT
UID:wk-538056-15@whenkickoff.com
DTSTAMP:20260419T152625Z
DTSTART:20260301T140000Z
DTEND:20260301T160000Z
SUMMARY:Brighton & Hove Albion FC vs Nottingham Forest FC
DESCRIPTION:WhenKickoff reminder for Brighton & Hove Albion FC vs Nottingham Forest FC
URL:https://whenkickoff.com/en/match/brighton-hove-albion-fc-vs-nottingham-forest-fc-538056/
BEGIN:VALARM
TRIGGER:-PT15M
ACTION:DISPLAY
DESCRIPTION:Match starts soon
END:VALARM
END:VEVENT
END:VCALENDAR
