BEGIN:VCALENDAR
VERSION:2.0
PRODID:-//WhenKickoff//Match Reminder//EN
BEGIN:VEVENT
UID:wk-538054-15@whenkickoff.com
DTSTAMP:20260419T183835Z
DTSTART:20260221T173000Z
DTEND:20260221T193000Z
SUMMARY:West Ham United FC vs AFC Bournemouth
DESCRIPTION:WhenKickoff reminder for West Ham United FC vs AFC Bournemouth
URL:https://whenkickoff.com/en/match/west-ham-united-fc-vs-afc-bournemouth-538054/
BEGIN:VALARM
TRIGGER:-PT15M
ACTION:DISPLAY
DESCRIPTION:Match starts soon
END:VALARM
END:VEVENT
END:VCALENDAR
