BEGIN:VCALENDAR
VERSION:2.0
PRODID:-//WhenKickoff//Match Reminder//EN
BEGIN:VEVENT
UID:wk-538044-15@whenkickoff.com
DTSTAMP:20260420T102836Z
DTSTART:20260210T201500Z
DTEND:20260210T221500Z
SUMMARY:West Ham United FC vs Manchester United FC
DESCRIPTION:WhenKickoff reminder for West Ham United FC vs Manchester United FC
URL:https://whenkickoff.com/en/match/west-ham-united-fc-vs-manchester-united-fc-538044/
BEGIN:VALARM
TRIGGER:-PT15M
ACTION:DISPLAY
DESCRIPTION:Match starts soon
END:VALARM
END:VEVENT
END:VCALENDAR
