BEGIN:VCALENDAR
VERSION:2.0
PRODID:-//WhenKickoff//Match Reminder//EN
BEGIN:VEVENT
UID:wk-538042-15@whenkickoff.com
DTSTAMP:20260420T001747Z
DTSTART:20260211T193000Z
DTEND:20260211T213000Z
SUMMARY:Nottingham Forest FC vs Wolverhampton Wanderers FC
DESCRIPTION:WhenKickoff reminder for Nottingham Forest FC vs Wolverhampton Wanderers FC
URL:https://whenkickoff.com/en/match/nottingham-forest-fc-vs-wolverhampton-wanderers-fc-538042/
BEGIN:VALARM
TRIGGER:-PT15M
ACTION:DISPLAY
DESCRIPTION:Match starts soon
END:VALARM
END:VEVENT
END:VCALENDAR
