BEGIN:VCALENDAR
VERSION:2.0
PRODID:-//WhenKickoff//Match Reminder//EN
BEGIN:VEVENT
UID:wk-538041-15@whenkickoff.com
DTSTAMP:20260420T081622Z
DTSTART:20260211T193000Z
DTEND:20260211T213000Z
SUMMARY:Manchester City FC vs Fulham FC
DESCRIPTION:WhenKickoff reminder for Manchester City FC vs Fulham FC
URL:https://whenkickoff.com/en/match/manchester-city-fc-vs-fulham-fc-538041/
BEGIN:VALARM
TRIGGER:-PT15M
ACTION:DISPLAY
DESCRIPTION:Match starts soon
END:VALARM
END:VEVENT
END:VCALENDAR
