BEGIN:VCALENDAR
VERSION:2.0
PRODID:-//WhenKickoff//Match Reminder//EN
BEGIN:VEVENT
UID:wk-538040-15@whenkickoff.com
DTSTAMP:20260420T095833Z
DTSTART:20260210T193000Z
DTEND:20260210T213000Z
SUMMARY:Everton FC vs AFC Bournemouth
DESCRIPTION:WhenKickoff reminder for Everton FC vs AFC Bournemouth
URL:https://whenkickoff.com/en/match/everton-fc-vs-afc-bournemouth-538040/
BEGIN:VALARM
TRIGGER:-PT15M
ACTION:DISPLAY
DESCRIPTION:Match starts soon
END:VALARM
END:VEVENT
END:VCALENDAR
