BEGIN:VCALENDAR
VERSION:2.0
PRODID:-//WhenKickoff//Match Reminder//EN
BEGIN:VEVENT
UID:wk-538038-15@whenkickoff.com
DTSTAMP:20260420T112901Z
DTSTART:20260212T200000Z
DTEND:20260212T220000Z
SUMMARY:Brentford FC vs Arsenal FC
DESCRIPTION:WhenKickoff reminder for Brentford FC vs Arsenal FC
URL:https://whenkickoff.com/en/match/brentford-fc-vs-arsenal-fc-538038/
BEGIN:VALARM
TRIGGER:-PT15M
ACTION:DISPLAY
DESCRIPTION:Match starts soon
END:VALARM
END:VEVENT
END:VCALENDAR
