BEGIN:VCALENDAR
VERSION:2.0
PRODID:-//WhenKickoff//Match Reminder//EN
BEGIN:VEVENT
UID:wk-538036-15@whenkickoff.com
DTSTAMP:20260420T081621Z
DTSTART:20260211T193000Z
DTEND:20260211T213000Z
SUMMARY:Aston Villa FC vs Brighton & Hove Albion FC
DESCRIPTION:WhenKickoff reminder for Aston Villa FC vs Brighton & Hove Albion FC
URL:https://whenkickoff.com/en/match/aston-villa-fc-vs-brighton-hove-albion-fc-538036/
BEGIN:VALARM
TRIGGER:-PT15M
ACTION:DISPLAY
DESCRIPTION:Match starts soon
END:VALARM
END:VEVENT
END:VCALENDAR
