BEGIN:VCALENDAR
VERSION:2.0
PRODID:-//WhenKickoff//Match Reminder//EN
BEGIN:VEVENT
UID:wk-538035-15@whenkickoff.com
DTSTAMP:20260420T081622Z
DTSTART:20260211T201500Z
DTEND:20260211T221500Z
SUMMARY:Sunderland AFC vs Liverpool FC
DESCRIPTION:WhenKickoff reminder for Sunderland AFC vs Liverpool FC
URL:https://whenkickoff.com/en/match/sunderland-afc-vs-liverpool-fc-538035/
BEGIN:VALARM
TRIGGER:-PT15M
ACTION:DISPLAY
DESCRIPTION:Match starts soon
END:VALARM
END:VEVENT
END:VCALENDAR
