BEGIN:VCALENDAR
VERSION:2.0
PRODID:-//WhenKickoff//Match Reminder//EN
BEGIN:VEVENT
UID:wk-538034-15@whenkickoff.com
DTSTAMP:20260420T120239Z
DTSTART:20260207T150000Z
DTEND:20260207T170000Z
SUMMARY:Wolverhampton Wanderers FC vs Chelsea FC
DESCRIPTION:WhenKickoff reminder for Wolverhampton Wanderers FC vs Chelsea FC
URL:https://whenkickoff.com/en/match/wolverhampton-wanderers-fc-vs-chelsea-fc-538034/
BEGIN:VALARM
TRIGGER:-PT15M
ACTION:DISPLAY
DESCRIPTION:Match starts soon
END:VALARM
END:VEVENT
END:VCALENDAR
