BEGIN:VCALENDAR
VERSION:2.0
PRODID:-//WhenKickoff//Match Reminder//EN
BEGIN:VEVENT
UID:wk-538033-15@whenkickoff.com
DTSTAMP:20260420T121855Z
DTSTART:20260207T173000Z
DTEND:20260207T193000Z
SUMMARY:Newcastle United FC vs Brentford FC
DESCRIPTION:WhenKickoff reminder for Newcastle United FC vs Brentford FC
URL:https://whenkickoff.com/en/match/newcastle-united-fc-vs-brentford-fc-538033/
BEGIN:VALARM
TRIGGER:-PT15M
ACTION:DISPLAY
DESCRIPTION:Match starts soon
END:VALARM
END:VEVENT
END:VCALENDAR
