BEGIN:VCALENDAR
VERSION:2.0
PRODID:-//WhenKickoff//Match Reminder//EN
BEGIN:VEVENT
UID:wk-538032-15@whenkickoff.com
DTSTAMP:20260420T121858Z
DTSTART:20260207T123000Z
DTEND:20260207T143000Z
SUMMARY:Manchester United FC vs Tottenham Hotspur FC
DESCRIPTION:WhenKickoff reminder for Manchester United FC vs Tottenham Hotspur FC
URL:https://whenkickoff.com/en/match/manchester-united-fc-vs-tottenham-hotspur-fc-538032/
BEGIN:VALARM
TRIGGER:-PT15M
ACTION:DISPLAY
DESCRIPTION:Match starts soon
END:VALARM
END:VEVENT
END:VCALENDAR
