BEGIN:VCALENDAR
VERSION:2.0
PRODID:-//WhenKickoff//Match Reminder//EN
BEGIN:VEVENT
UID:wk-538028-15@whenkickoff.com
DTSTAMP:20260420T120237Z
DTSTART:20260207T150000Z
DTEND:20260207T170000Z
SUMMARY:Burnley FC vs West Ham United FC
DESCRIPTION:WhenKickoff reminder for Burnley FC vs West Ham United FC
URL:https://whenkickoff.com/en/match/burnley-fc-vs-west-ham-united-fc-538028/
BEGIN:VALARM
TRIGGER:-PT15M
ACTION:DISPLAY
DESCRIPTION:Match starts soon
END:VALARM
END:VEVENT
END:VCALENDAR
