BEGIN:VCALENDAR
VERSION:2.0
PRODID:-//WhenKickoff//Match Reminder//EN
BEGIN:VEVENT
UID:wk-538027-15@whenkickoff.com
DTSTAMP:20260420T124625Z
DTSTART:20260207T150000Z
DTEND:20260207T170000Z
SUMMARY:Arsenal FC vs Sunderland AFC
DESCRIPTION:WhenKickoff reminder for Arsenal FC vs Sunderland AFC
URL:https://whenkickoff.com/en/match/arsenal-fc-vs-sunderland-afc-538027/
BEGIN:VALARM
TRIGGER:-PT15M
ACTION:DISPLAY
DESCRIPTION:Match starts soon
END:VALARM
END:VEVENT
END:VCALENDAR
