BEGIN:VCALENDAR
VERSION:2.0
PRODID:-//WhenKickoff//Match Reminder//EN
BEGIN:VEVENT
UID:wk-538025-15@whenkickoff.com
DTSTAMP:20260420T124625Z
DTSTART:20260207T150000Z
DTEND:20260207T170000Z
SUMMARY:AFC Bournemouth vs Aston Villa FC
DESCRIPTION:WhenKickoff reminder for AFC Bournemouth vs Aston Villa FC
URL:https://whenkickoff.com/en/match/afc-bournemouth-vs-aston-villa-fc-538025/
BEGIN:VALARM
TRIGGER:-PT15M
ACTION:DISPLAY
DESCRIPTION:Match starts soon
END:VALARM
END:VEVENT
END:VCALENDAR
