BEGIN:VCALENDAR
VERSION:2.0
PRODID:-//WhenKickoff//Match Reminder//EN
BEGIN:VEVENT
UID:wk-538024-15@whenkickoff.com
DTSTAMP:20260420T204815Z
DTSTART:20260131T150000Z
DTEND:20260131T170000Z
SUMMARY:Wolverhampton Wanderers FC vs AFC Bournemouth
DESCRIPTION:WhenKickoff reminder for Wolverhampton Wanderers FC vs AFC Bournemouth
URL:https://whenkickoff.com/en/match/wolverhampton-wanderers-fc-vs-afc-bournemouth-538024/
BEGIN:VALARM
TRIGGER:-PT15M
ACTION:DISPLAY
DESCRIPTION:Match starts soon
END:VALARM
END:VEVENT
END:VCALENDAR
