BEGIN:VCALENDAR
VERSION:2.0
PRODID:-//WhenKickoff//Match Reminder//EN
BEGIN:VEVENT
UID:wk-538023-15@whenkickoff.com
DTSTAMP:20260420T204838Z
DTSTART:20260201T163000Z
DTEND:20260201T183000Z
SUMMARY:Tottenham Hotspur FC vs Manchester City FC
DESCRIPTION:WhenKickoff reminder for Tottenham Hotspur FC vs Manchester City FC
URL:https://whenkickoff.com/en/match/tottenham-hotspur-fc-vs-manchester-city-fc-538023/
BEGIN:VALARM
TRIGGER:-PT15M
ACTION:DISPLAY
DESCRIPTION:Match starts soon
END:VALARM
END:VEVENT
END:VCALENDAR
