BEGIN:VCALENDAR
VERSION:2.0
PRODID:-//WhenKickoff//Match Reminder//EN
BEGIN:VEVENT
UID:wk-538022-15@whenkickoff.com
DTSTAMP:20260420T204827Z
DTSTART:20260201T140000Z
DTEND:20260201T160000Z
SUMMARY:Nottingham Forest FC vs Crystal Palace FC
DESCRIPTION:WhenKickoff reminder for Nottingham Forest FC vs Crystal Palace FC
URL:https://whenkickoff.com/en/match/nottingham-forest-fc-vs-crystal-palace-fc-538022/
BEGIN:VALARM
TRIGGER:-PT15M
ACTION:DISPLAY
DESCRIPTION:Match starts soon
END:VALARM
END:VEVENT
END:VCALENDAR
