BEGIN:VCALENDAR
VERSION:2.0
PRODID:-//WhenKickoff//Match Reminder//EN
BEGIN:VEVENT
UID:wk-538021-15@whenkickoff.com
DTSTAMP:20260420T204957Z
DTSTART:20260201T140000Z
DTEND:20260201T160000Z
SUMMARY:Manchester United FC vs Fulham FC
DESCRIPTION:WhenKickoff reminder for Manchester United FC vs Fulham FC
URL:https://whenkickoff.com/en/match/manchester-united-fc-vs-fulham-fc-538021/
BEGIN:VALARM
TRIGGER:-PT15M
ACTION:DISPLAY
DESCRIPTION:Match starts soon
END:VALARM
END:VEVENT
END:VCALENDAR
