BEGIN:VCALENDAR
VERSION:2.0
PRODID:-//WhenKickoff//Match Reminder//EN
BEGIN:VEVENT
UID:wk-538020-15@whenkickoff.com
DTSTAMP:20260420T204926Z
DTSTART:20260131T150000Z
DTEND:20260131T170000Z
SUMMARY:Leeds United FC vs Arsenal FC
DESCRIPTION:WhenKickoff reminder for Leeds United FC vs Arsenal FC
URL:https://whenkickoff.com/en/match/leeds-united-fc-vs-arsenal-fc-538020/
BEGIN:VALARM
TRIGGER:-PT15M
ACTION:DISPLAY
DESCRIPTION:Match starts soon
END:VALARM
END:VEVENT
END:VCALENDAR
