BEGIN:VCALENDAR
VERSION:2.0
PRODID:-//WhenKickoff//Match Reminder//EN
BEGIN:VEVENT
UID:wk-538019-15@whenkickoff.com
DTSTAMP:20260420T204815Z
DTSTART:20260131T200000Z
DTEND:20260131T220000Z
SUMMARY:Liverpool FC vs Newcastle United FC
DESCRIPTION:WhenKickoff reminder for Liverpool FC vs Newcastle United FC
URL:https://whenkickoff.com/en/match/liverpool-fc-vs-newcastle-united-fc-538019/
BEGIN:VALARM
TRIGGER:-PT15M
ACTION:DISPLAY
DESCRIPTION:Match starts soon
END:VALARM
END:VEVENT
END:VCALENDAR
