BEGIN:VCALENDAR
VERSION:2.0
PRODID:-//WhenKickoff//Match Reminder//EN
BEGIN:VEVENT
UID:wk-538018-15@whenkickoff.com
DTSTAMP:20260420T204926Z
DTSTART:20260131T173000Z
DTEND:20260131T193000Z
SUMMARY:Chelsea FC vs West Ham United FC
DESCRIPTION:WhenKickoff reminder for Chelsea FC vs West Ham United FC
URL:https://whenkickoff.com/en/match/chelsea-fc-vs-west-ham-united-fc-538018/
BEGIN:VALARM
TRIGGER:-PT15M
ACTION:DISPLAY
DESCRIPTION:Match starts soon
END:VALARM
END:VEVENT
END:VCALENDAR
