BEGIN:VCALENDAR
VERSION:2.0
PRODID:-//WhenKickoff//Match Reminder//EN
BEGIN:VEVENT
UID:wk-538016-15@whenkickoff.com
DTSTAMP:20260420T204815Z
DTSTART:20260201T140000Z
DTEND:20260201T160000Z
SUMMARY:Aston Villa FC vs Brentford FC
DESCRIPTION:WhenKickoff reminder for Aston Villa FC vs Brentford FC
URL:https://whenkickoff.com/en/match/aston-villa-fc-vs-brentford-fc-538016/
BEGIN:VALARM
TRIGGER:-PT15M
ACTION:DISPLAY
DESCRIPTION:Match starts soon
END:VALARM
END:VEVENT
END:VCALENDAR
