BEGIN:VCALENDAR
VERSION:2.0
PRODID:-//WhenKickoff//Match Reminder//EN
BEGIN:VEVENT
UID:wk-538015-15@whenkickoff.com
DTSTAMP:20260420T185216Z
DTSTART:20260202T200000Z
DTEND:20260202T220000Z
SUMMARY:Sunderland AFC vs Burnley FC
DESCRIPTION:WhenKickoff reminder for Sunderland AFC vs Burnley FC
URL:https://whenkickoff.com/en/match/sunderland-afc-vs-burnley-fc-538015/
BEGIN:VALARM
TRIGGER:-PT15M
ACTION:DISPLAY
DESCRIPTION:Match starts soon
END:VALARM
END:VEVENT
END:VCALENDAR
