BEGIN:VCALENDAR
VERSION:2.0
PRODID:-//WhenKickoff//Match Reminder//EN
BEGIN:VEVENT
UID:wk-538013-15@whenkickoff.com
DTSTAMP:20260420T194437Z
DTSTART:20260125T140000Z
DTEND:20260125T160000Z
SUMMARY:Newcastle United FC vs Aston Villa FC
DESCRIPTION:WhenKickoff reminder for Newcastle United FC vs Aston Villa FC
URL:https://whenkickoff.com/en/match/newcastle-united-fc-vs-aston-villa-fc-538013/
BEGIN:VALARM
TRIGGER:-PT15M
ACTION:DISPLAY
DESCRIPTION:Match starts soon
END:VALARM
END:VEVENT
END:VCALENDAR
