BEGIN:VCALENDAR
VERSION:2.0
PRODID:-//WhenKickoff//Match Reminder//EN
BEGIN:VEVENT
UID:wk-538012-15@whenkickoff.com
DTSTAMP:20260420T194435Z
DTSTART:20260124T150000Z
DTEND:20260124T170000Z
SUMMARY:Manchester City FC vs Wolverhampton Wanderers FC
DESCRIPTION:WhenKickoff reminder for Manchester City FC vs Wolverhampton Wanderers FC
URL:https://whenkickoff.com/en/match/manchester-city-fc-vs-wolverhampton-wanderers-fc-538012/
BEGIN:VALARM
TRIGGER:-PT15M
ACTION:DISPLAY
DESCRIPTION:Match starts soon
END:VALARM
END:VEVENT
END:VCALENDAR
