BEGIN:VCALENDAR
VERSION:2.0
PRODID:-//WhenKickoff//Match Reminder//EN
BEGIN:VEVENT
UID:wk-538011-15@whenkickoff.com
DTSTAMP:20260420T194434Z
DTSTART:20260124T150000Z
DTEND:20260124T170000Z
SUMMARY:Fulham FC vs Brighton & Hove Albion FC
DESCRIPTION:WhenKickoff reminder for Fulham FC vs Brighton & Hove Albion FC
URL:https://whenkickoff.com/en/match/fulham-fc-vs-brighton-hove-albion-fc-538011/
BEGIN:VALARM
TRIGGER:-PT15M
ACTION:DISPLAY
DESCRIPTION:Match starts soon
END:VALARM
END:VEVENT
END:VCALENDAR
